BEGIN:VCALENDAR
VERSION:2.0
PRODID:-//Eastern Stars Global - ECPv6.3.1//NONSGML v1.0//EN
CALSCALE:GREGORIAN
METHOD:PUBLISH
X-ORIGINAL-URL:https://estars.com.my
X-WR-CALDESC:Events for Eastern Stars Global
REFRESH-INTERVAL;VALUE=DURATION:PT1H
X-Robots-Tag:noindex
X-PUBLISHED-TTL:PT1H
BEGIN:VTIMEZONE
TZID:UTC
BEGIN:STANDARD
TZOFFSETFROM:+0000
TZOFFSETTO:+0000
TZNAME:UTC
DTSTART:20230101T000000
END:STANDARD
END:VTIMEZONE
BEGIN:VEVENT
DTSTART;VALUE=DATE:20240501
DTEND;VALUE=DATE:20240519
DTSTAMP:20260422T170411
CREATED:20190606T084320Z
LAST-MODIFIED:20191207T104832Z
UID:690-1714521600-1716076799@estars.com.my
SUMMARY:Pieter Bruegel The Elder
DESCRIPTION:“东方微笑 新侨筑梦”北雁山人艺术沙龙在福田区开幕  9月23日，一场展现东方之美的视觉盛宴——“东方微笑 新侨筑梦”北雁山人艺术沙龙在福田区文化馆·音乐主题馆“福田画苑”开幕。福田区委常委、统战部部长吴欢出席活动。   本次活动由中共福田区委统战部(区侨务局、区侨联)指导，福田区海外留学归国人员协会举办，福田区公共文化体育发展中心支持，深圳柒分生活文化有限公司承办。旨在福田这块充满艺术气息的福地上展示优秀艺术作品，让更多的侨胞、海归及艺术爱好者观赏到著名居士画家北雁山人的艺术作品，感受中东方文化之美，抒发侨情，讲优秀文化故事，促进新侨海归间的交流与合作。 福田区统战部副部长、区侨联主席梁旭红在致辞中表示，北雁山人老师用高超的技艺诠释“东方微笑”，让人时刻感受和睦、和乐，宣扬积极向上的精神面貌和包容仁爱的文化自信。福田区有站位的高度、包容的温度和文化的热度，希望新侨海归搭建起更多文化交流的桥梁，携手更多艺术家在福田挖掘和弘扬东方文化内涵，传播中华优秀传统文化。 为期5天(9月23日-27日)的“东方微笑 新侨筑梦”北雁山人艺术沙龙将展出北雁山人关于世界文化遗产的艺术精品之作。本次艺术沙龙给新侨海归、艺术爱好者带来深刻的艺术享受和美好体验，以艺术疗愈生活，展示丰富、多样的艺术生态，以亲情、乡情、友情为纽带，带动更多新侨海归加深对中华优秀文化的了解，让大家深切感受到国家强大而带来的自信与从容，增进了团结与合作、交流与共融，为弘扬优秀文化践行新侨海归担当。  中国国家画院国展美术中心签约画家北雁山人，福田区委统战部四级调研员戴路，福田区侨联副主席、区海归协会会长黄基昌，柒分品牌创始人蔡政堃，福田区侨联副主席、区海归协会副会长李睿，福田区海归协会副会长胡玲、王龙、凃聪颖、叶智维，秘书长黄淑怡等新侨海归及柒分联合创始人梁建豪、陈国栋、刘千瑄等参加活动。 相关链接：北雁山人是我国著名居士画家和书法家，世界文化遗产艺术艺术研究会会长和中国佛教书画院高级院士。曾经绘制的《鲤鱼跃龙门》，《吉庆有余》，《热烈庆祝建国二十四周年》，《毛主席视察红旗公社》等等作品，皆全国发行，是80年代家家张贴的吉祥。《思想品德》课本的插画也出自北雁山人之手笔。近30年，深入自然和世界文化遗产遗址，创作出一系列关于世界文化遗产的作品。
URL:https://estars.com.my/event/pieter-bruegel-the-elder/
LOCATION:Queens\, New York\, 34th Ave\, NY\, 11106\, United States
CATEGORIES:Galleries
ATTACH;FMTTYPE=image/jpeg:https://estars.com.my/wp-content/uploads/2019/06/image-46-copyright.jpg
ORGANIZER;CN="Ozeum Art & History Museum":MAILTO:yoursite@example.com
END:VEVENT
BEGIN:VEVENT
DTSTART;VALUE=DATE:20230921
DTEND;VALUE=DATE:20230926
DTSTAMP:20260422T170411
CREATED:20190606T084720Z
LAST-MODIFIED:20230928T130823Z
UID:694-1695254400-1695686399@estars.com.my
SUMMARY:“东方微笑 新侨筑梦”北雁山人艺术沙龙在福田区开幕
DESCRIPTION:“东方微笑 新侨筑梦”北雁山人艺术沙龙在福田区开幕  9月23日，一场展现东方之美的视觉盛宴——“东方微笑 新侨筑梦”北雁山人艺术沙龙在福田区文化馆·音乐主题馆“福田画苑”开幕。福田区委常委、统战部部长吴欢出席活动。   本次活动由中共福田区委统战部(区侨务局、区侨联)指导，福田区海外留学归国人员协会举办，福田区公共文化体育发展中心支持，深圳柒分生活文化有限公司承办。旨在福田这块充满艺术气息的福地上展示优秀艺术作品，让更多的侨胞、海归及艺术爱好者观赏到著名居士画家北雁山人的艺术作品，感受中东方文化之美，抒发侨情，讲优秀文化故事，促进新侨海归间的交流与合作。 福田区统战部副部长、区侨联主席梁旭红在致辞中表示，北雁山人老师用高超的技艺诠释“东方微笑”，让人时刻感受和睦、和乐，宣扬积极向上的精神面貌和包容仁爱的文化自信。福田区有站位的高度、包容的温度和文化的热度，希望新侨海归搭建起更多文化交流的桥梁，携手更多艺术家在福田挖掘和弘扬东方文化内涵，传播中华优秀传统文化。 为期5天(9月23日-27日)的“东方微笑 新侨筑梦”北雁山人艺术沙龙将展出北雁山人关于世界文化遗产的艺术精品之作。本次艺术沙龙给新侨海归、艺术爱好者带来深刻的艺术享受和美好体验，以艺术疗愈生活，展示丰富、多样的艺术生态，以亲情、乡情、友情为纽带，带动更多新侨海归加深对中华优秀文化的了解，让大家深切感受到国家强大而带来的自信与从容，增进了团结与合作、交流与共融，为弘扬优秀文化践行新侨海归担当。  中国国家画院国展美术中心签约画家北雁山人，福田区委统战部四级调研员戴路，福田区侨联副主席、区海归协会会长黄基昌，柒分品牌创始人蔡政堃，福田区侨联副主席、区海归协会副会长李睿，福田区海归协会副会长胡玲、王龙、凃聪颖、叶智维，秘书长黄淑怡等新侨海归及柒分联合创始人梁建豪、陈国栋、刘千瑄等参加活动。 相关链接：北雁山人是我国著名居士画家和书法家，世界文化遗产艺术艺术研究会会长和中国佛教书画院高级院士。曾经绘制的《鲤鱼跃龙门》，《吉庆有余》，《热烈庆祝建国二十四周年》，《毛主席视察红旗公社》等等作品，皆全国发行，是80年代家家张贴的吉祥。《思想品德》课本的插画也出自北雁山人之手笔。近30年，深入自然和世界文化遗产遗址，创作出一系列关于世界文化遗产的作品。
URL:https://estars.com.my/event/%e4%b8%9c%e6%96%b9%e5%be%ae%e7%ac%91-%e6%96%b0%e4%be%a8%e7%ad%91%e6%a2%a6%e5%8c%97%e9%9b%81%e5%b1%b1%e4%ba%ba%e8%89%ba%e6%9c%af%e6%b2%99%e9%be%99%e5%9c%a8%e7%a6%8f%e7%94%b0%e5%8c%ba/
LOCATION:Shenzhen
CATEGORIES:Galleries
ATTACH;FMTTYPE=image/jpeg:https://estars.com.my/wp-content/uploads/2023/09/2.jpg
END:VEVENT
BEGIN:VEVENT
DTSTART;VALUE=DATE:20230622
DTEND;VALUE=DATE:20240721
DTSTAMP:20260422T170411
CREATED:20190606T084449Z
LAST-MODIFIED:20210904T135803Z
UID:692-1687392000-1721519999@estars.com.my
SUMMARY:Caravaggio Michelangelo Merisi
DESCRIPTION:“东方微笑 新侨筑梦”北雁山人艺术沙龙在福田区开幕  9月23日，一场展现东方之美的视觉盛宴——“东方微笑 新侨筑梦”北雁山人艺术沙龙在福田区文化馆·音乐主题馆“福田画苑”开幕。福田区委常委、统战部部长吴欢出席活动。   本次活动由中共福田区委统战部(区侨务局、区侨联)指导，福田区海外留学归国人员协会举办，福田区公共文化体育发展中心支持，深圳柒分生活文化有限公司承办。旨在福田这块充满艺术气息的福地上展示优秀艺术作品，让更多的侨胞、海归及艺术爱好者观赏到著名居士画家北雁山人的艺术作品，感受中东方文化之美，抒发侨情，讲优秀文化故事，促进新侨海归间的交流与合作。 福田区统战部副部长、区侨联主席梁旭红在致辞中表示，北雁山人老师用高超的技艺诠释“东方微笑”，让人时刻感受和睦、和乐，宣扬积极向上的精神面貌和包容仁爱的文化自信。福田区有站位的高度、包容的温度和文化的热度，希望新侨海归搭建起更多文化交流的桥梁，携手更多艺术家在福田挖掘和弘扬东方文化内涵，传播中华优秀传统文化。 为期5天(9月23日-27日)的“东方微笑 新侨筑梦”北雁山人艺术沙龙将展出北雁山人关于世界文化遗产的艺术精品之作。本次艺术沙龙给新侨海归、艺术爱好者带来深刻的艺术享受和美好体验，以艺术疗愈生活，展示丰富、多样的艺术生态，以亲情、乡情、友情为纽带，带动更多新侨海归加深对中华优秀文化的了解，让大家深切感受到国家强大而带来的自信与从容，增进了团结与合作、交流与共融，为弘扬优秀文化践行新侨海归担当。  中国国家画院国展美术中心签约画家北雁山人，福田区委统战部四级调研员戴路，福田区侨联副主席、区海归协会会长黄基昌，柒分品牌创始人蔡政堃，福田区侨联副主席、区海归协会副会长李睿，福田区海归协会副会长胡玲、王龙、凃聪颖、叶智维，秘书长黄淑怡等新侨海归及柒分联合创始人梁建豪、陈国栋、刘千瑄等参加活动。 相关链接：北雁山人是我国著名居士画家和书法家，世界文化遗产艺术艺术研究会会长和中国佛教书画院高级院士。曾经绘制的《鲤鱼跃龙门》，《吉庆有余》，《热烈庆祝建国二十四周年》，《毛主席视察红旗公社》等等作品，皆全国发行，是80年代家家张贴的吉祥。《思想品德》课本的插画也出自北雁山人之手笔。近30年，深入自然和世界文化遗产遗址，创作出一系列关于世界文化遗产的作品。
URL:https://estars.com.my/event/caravaggio-michelangelo-merisi/
LOCATION:Queens\, New York\, 34th Ave\, NY\, 11106\, United States
CATEGORIES:Galleries
ATTACH;FMTTYPE=image/jpeg:https://estars.com.my/wp-content/uploads/2019/05/image-13-copyright.jpg
ORGANIZER;CN="Ozeum Art & History Museum":MAILTO:yoursite@example.com
END:VEVENT
END:VCALENDAR